
BEGIN:VCALENDAR
VERSION:2.0
PRODID:-//81.169.145.157//NONSGML kigkonsult.se iCalcreator 2.20//
CALSCALE:GREGORIAN
METHOD:PUBLISH
X-WR-TIMEZONE:Europe/Berlin
BEGIN:VEVENT
UID:event81@Singkreis NOAH Wolfakirchen
DTSTAMP:20260422T152405Z
CATEGORIES:Auftritte
DESCRIPTION:OPEN AIR Konzert im Schloßhof Ortenburg\nKategorie: Auftritte\n
 ICS-Link: https://singkreis-noah.de/index.php?option=com_jem&view=event&id
 =81:open-air-konzert-im-schlosshof-ortenburg\n
DTSTART;TZID=Europe/Berlin:20260621T170000
DTEND;TZID=Europe/Berlin:20260621T170000
LOCATION:Schlosshof Ortenburg\,Kreppe 1\,94496 Ortenburg\,Germany
SUMMARY:OPEN AIR Konzert im Schloßhof Ortenburg
URL:https://singkreis-noah.de/index.php?option=com_jem&view=event&id=81:ope
 n-air-konzert-im-schlosshof-ortenburg
END:VEVENT
BEGIN:VEVENT
UID:event84@Singkreis NOAH Wolfakirchen
DTSTAMP:20260422T152405Z
CATEGORIES:Auftritte
DESCRIPTION:Weihnachtsgottesdienst in der Pfarrkirche Wolfakirchen\nKategor
 ie: Auftritte\nICS-Link: https://singkreis-noah.de/index.php?option=com_je
 m&view=event&id=84:2-weihnachtsfeiertags-gottesdienst-in-wolfakirchen\n
DTSTART;TZID=Europe/Berlin:20261226T100000
DTEND;TZID=Europe/Berlin:20261226T100000
LOCATION:Pfarrkirche Wolfakirchen\,St2324\,94542 Haarbach\,Germany
SUMMARY:Weihnachtsgottesdienst in der Pfarrkirche Wolfakirchen
URL:https://singkreis-noah.de/index.php?option=com_jem&view=event&id=84:2-w
 eihnachtsfeiertags-gottesdienst-in-wolfakirchen
END:VEVENT
END:VCALENDAR
